BEGIN:VCALENDAR
VERSION:2.0
PRODID:-//Manchester Events//manchester.eventstream.tech//
CALSCALE:GREGORIAN
METHOD:PUBLISH
BEGIN:VEVENT
SUMMARY:Serena Terry: Therapy
DTSTART:20261006T180000Z
DTEND:20261006T210000Z
DTSTAMP:20260420T100451Z
UID:serena-terry-therapy-aecf2090@manchester.eventstream.tech
DESCRIPTION:Serena Terry: Therapy Taking place at Aviva Studios - The Hall
  in Manchester. Event date: October 06\, 2026....\n\nMore info: https://ma
 nchester.eventstream.tech/events/serena-terry-therapy-aecf2090/
LOCATION:Aviva Studios - The Hall\, Water Street\, Manchester\, M34JQ\, Ma
 nchester\, UK
ORGANIZER:CN=ticketmaster_api
URL:https://manchester.eventstream.tech/events/serena-terry-therapy-aecf20
 90/
END:VEVENT
END:VCALENDAR
